BEGIN:VCALENDAR
VERSION:2.0
PRODID:-//Eventin//Event Calendar//EN
CALSCALE:GREGORIAN
METHOD:PUBLISH
BEGIN:VEVENT
UID:b2e7a33b2b1a028cd570a62e12d19175@event.bitola.gov.mk
SUMMARY:„ГЕСТОВИ“ ВО ОФИЦЕРСКИ ДОМ-КИЦ БИТО
 ЛА
DESCRIPTION:Во најава\,
LOCATION:Офицерски дом Битола
DTSTAMP:20260421T093541Z
DTSTART:20260430T180000Z
DTEND:20260505T194000Z
END:VEVENT
END:VCALENDAR
