BEGIN:VCALENDAR
VERSION:2.0
PRODID:-//Eventin//Event Calendar//EN
CALSCALE:GREGORIAN
METHOD:PUBLISH
BEGIN:VEVENT
UID:eff49423446a9e04ebb36d74af037ca6@event.bitola.gov.mk
SUMMARY:МЕНОПАУЗА - Стендап со Тијана
DESCRIPTION:Жанр: монодрама\nРежисер: Раде Вук
 отиќ\nАктери: Тијана Дапчевиќ\nВозраст: 16
 +\nСала: голема сала\nОпис: НЕШТО НОВО\, ХР
 АБРО И УРНЕБЕСНО СМЕШНО! По два распродад
 ени настапи во Скопје легендарната Тијан
 а Дапчевиќ доаѓа во Битола со монодрамат
 а „Менопауза“! Урнебесен stand-up со гласна\
 , искрена и духовита исповед за темите за 
 кои жените најчесто шепотат – а сега кон
 ечно се зборуваат без срам и со многу сме
 а. Секс\, хормони\, ПМС кој не знае дали доа
 ѓа или си оди\, љубовници без поим за лубр
 икант и мажи во криза на средни години – 
 Тијана без влакна на јазикот (и со некое н
 ово на брадата) ве освојува уште од прват
 а минута.
LOCATION:Центар за култура Битола
DTSTAMP:20260421T094628Z
DTSTART:20260423T180000Z
DTEND:20260423T200000Z
END:VEVENT
END:VCALENDAR
